BEGIN:VCALENDAR
VERSION:2.0
PRODID:-//UNA NZ Education Portal - ECPv5.15.0//NONSGML v1.0//EN
CALSCALE:GREGORIAN
METHOD:PUBLISH
X-WR-CALNAME:UNA NZ Education Portal
X-ORIGINAL-URL:https://uneducation.nz
X-WR-CALDESC:Events for UNA NZ Education Portal
BEGIN:VTIMEZONE
TZID:Pacific/Auckland
BEGIN:STANDARD
TZOFFSETFROM:+1300
TZOFFSETTO:+1200
TZNAME:NZST
DTSTART:20200404T140000
END:STANDARD
BEGIN:DAYLIGHT
TZOFFSETFROM:+1200
TZOFFSETTO:+1300
TZNAME:NZDT
DTSTART:20200926T140000
END:DAYLIGHT
END:VTIMEZONE
BEGIN:VEVENT
DTSTART;VALUE=DATE:20201205
DTEND;VALUE=DATE:20201206
DTSTAMP:20260425T222521
CREATED:20190221T210651Z
LAST-MODIFIED:20190221T214844Z
UID:1366-1607126400-1607212799@uneducation.nz
SUMMARY:International Volunteer Day
DESCRIPTION:International Volunteer Day (IVD) mandated by the UN General Assembly\, is held each year on 5 December.  \nIt is viewed as a unique chance for volunteers and organizations to celebrate their efforts\, to share their values\, and to promote their work among their communities\, non-governmental organizations (NGOs)\, United Nations agencies\, government authorities and the private sector. 2017 Theme: Volunteers Act First.
URL:https://uneducation.nz/event/international-volunteer-day/
CATEGORIES:Events
ATTACH;FMTTYPE=image/jpeg:https://uneducation.nz/wp-content/uploads/2019/02/Abu-Shouk-camp-for-Internally-Displaced-Persons-IDP-North-Darfur.jpg
END:VEVENT
END:VCALENDAR